BEGIN:VCALENDAR
VERSION:2.0
PRODID:-//kremlin.ru/Kremlin Calendar//RU
METHOD:PUBLISH
URL:http://kremlin.ru/acts/assignments/items/62316/ical-5.ics
BEGIN:VEVENT
SUMMARY:Пр-2549ГС\, п.1е
DTSTART;VALUE=DATE:20200301
DTEND;VALUE=DATE:20200302
UID:assignment-5501_5@kremlin.ru
DESCRIPTION:е) предусмотреть упрощённый поряд
 ок проведения конкурса с определением п
 обедителя по максимальному снижению ори
 ентировочной цены\, уточняемой по итогам
  экспертизы\, на строительство\, реконстр
 укцию и (или) капитальный ремонт «под клю
 ч» объектов\, включённых в утверждаемый 
 высшим исполнительным органом субъекта 
 Российской Федерации перечень объектов\
 , строительство\, реконструкция и (или) ка
 питальный ремонт которых предусмотрены 
 в целях реализации национальных проекто
 в\;
END:VEVENT
END:VCALENDAR
