BEGIN:VCALENDAR
VERSION:2.0
PRODID:-//kremlin.ru/Kremlin Calendar//RU
METHOD:PUBLISH
URL:http://kremlin.ru/acts/assignments/items/62316/ical-19.ics
BEGIN:VEVENT
SUMMARY:Пр-2549ГС\, п.5б
DTSTART;VALUE=DATE:20200601
DTEND;VALUE=DATE:20200602
UID:assignment-5515_19@kremlin.ru
DESCRIPTION:б) представить предложения по пер
 есмотру подходов к установлению органам
 и власти субъектов Российской Федерации
  дифференцированных нормативов объёма м
 едицинской помощи с учётом региональных
  особенностей\;
END:VEVENT
END:VCALENDAR
