BEGIN:VCALENDAR
VERSION:2.0
PRODID:-//kremlin.ru/Kremlin Calendar//RU
METHOD:PUBLISH
URL:http://kremlin.ru/acts/assignments/items/62316/ical-18.ics
BEGIN:VEVENT
SUMMARY:Пр-2549ГС\, п.5а
DTSTART;VALUE=DATE:20200601
DTEND;VALUE=DATE:20200602
UID:assignment-5514_18@kremlin.ru
DESCRIPTION:5. Министерству здравоохранения Р
 оссийской Федерации:а) внести в перечень
  критериев оценки соответствующих руков
 одителей федеральных национальных меди
 цинских исследовательских центров пока
 затели\, характеризующие результаты реа
 лизации в субъектах Российской Федераци
 и мероприятий региональных программ по 
 борьбе с сердечно-сосудистыми и онколог
 ическими заболеваниями\;
END:VEVENT
END:VCALENDAR
