BEGIN:VCALENDAR
VERSION:2.0
PRODID:-//kremlin.ru/Kremlin Calendar//RU
METHOD:PUBLISH
URL:http://kremlin.ru/acts/assignments/items/62316/ical-17.ics
BEGIN:VEVENT
SUMMARY:Пр-2549ГС\, п.4
DTSTART;VALUE=DATE:20200501
DTEND;VALUE=DATE:20200502
UID:assignment-5513_17@kremlin.ru
DESCRIPTION:4. Министерству здравоохранения Р
 оссийской Федерации совместно с рабочей
  группой Государственного совета Россий
 ской Федерации по направлению «Здравоох
 ранение» проработать вопрос\, касающийс
 я совершенствования механизма осуществ
 ления взаиморасчётов между территориал
 ьными фондами обязательного медицинско
 го страхования при оплате медицинской п
 омощи\, оказанной застрахованным по обяз
 ательному медицинскому страхованию гра
 жданам в медицинских организациях\, расп
 оложенных за пределами субъекта Российс
 кой Федерации\, на территории которого г
 раждане зарегистрированы по месту жител
 ьства.Доклад – до 1 мая 2020 г.Ответственны
 е: Скворцова В.И.\, Воскресенский С.С.
END:VEVENT
END:VCALENDAR
