BEGIN:VCALENDAR
VERSION:2.0
PRODID:-//kremlin.ru/Kremlin Calendar//RU
METHOD:PUBLISH
URL:http://kremlin.ru/acts/assignments/items/62316/ical-16.ics
BEGIN:VEVENT
SUMMARY:Пр-2549ГС\, п.3
DTSTART;VALUE=DATE:20200301
DTEND;VALUE=DATE:20200302
UID:assignment-5512_16@kremlin.ru
DESCRIPTION:3. Министерству здравоохранения Р
 оссийской Федерации совместно с органам
 и исполнительной власти субъектов Росси
 йской Федерации проанализировать факти
 ческую потребность субъектов Российско
 й Федерации в количестве вылетов санита
 рной авиации и представить предложения 
 по перераспределению между субъектами Р
 оссийской Федерации субсидий\, предоста
 вляемых из федерального бюджета на заку
 пку авиационных работ для оказания граж
 данам медицинской помощи (скорой специа
 лизированной медицинской помощи).Срок –
  1 марта 2020 г.Ответственные: Скворцова В.И
 .\, высшие должностные лица (руководители
  высших исполнительных органов государс
 твенной власти) субъектов Российской Фе
 дерации.
END:VEVENT
END:VCALENDAR
