BEGIN:VCALENDAR
VERSION:2.0
PRODID:-//kremlin.ru/Kremlin Calendar//RU
METHOD:PUBLISH
URL:http://kremlin.ru/acts/assignments/items/61922/ical-8.ics
BEGIN:VEVENT
SUMMARY:Пр-2199\, п.3б
DTSTART;VALUE=DATE:20191101
DTEND;VALUE=DATE:20191102
UID:assignment-5391_8@kremlin.ru
DESCRIPTION:б) представить предложения по раз
 работке эффективной проектной документ
 ации повторного использования по строит
 ельству (реконструкции) общеобразовател
 ьных организаций\, предусматривающей по
 вышение коэффициента эффективности пол
 езного использования и многофункционал
 ьной трансформации площадей зданий\, вне
 дрение современных форм организации обр
 азовательного процесса\, предусмотрев в
 озможность её использования для разных 
 климатических зон.Доклад – до 1 ноября 201
 9 г.\, далее раз в полгода.Ответственные: М
 едведев Д.А.\, Чупшева С.В.\, высшие должно
 стные лица (руководители высших исполни
 тельных органов государственной власти)
  субъектов Российской Федерации.
END:VEVENT
END:VCALENDAR
