BEGIN:VCALENDAR
VERSION:2.0
PRODID:-//kremlin.ru/Kremlin Calendar//RU
METHOD:PUBLISH
URL:http://kremlin.ru/acts/assignments/items/61922/ical-6.ics
BEGIN:VEVENT
SUMMARY:Пр-2199\, п.2
DTSTART;VALUE=DATE:20200601
DTEND;VALUE=DATE:20200602
UID:assignment-5389_6@kremlin.ru
DESCRIPTION:2. Правительству Российской Федер
 ации при участии Агентства стратегическ
 их инициатив\, Счётной палаты Российской
  Федерации\, Генеральной прокуратуры Рос
 сийской Федерации и заинтересованных ин
 ститутов развития обеспечить внесение и
 зменений в нормативную правовую базу\, о
 пределяющих допустимые случаи и объём н
 евозврата венчурных инвестиций и (или) п
 рямых инвестиций в капитал компаний\, ре
 ализующих технологические проекты\, осу
 ществляемые с использованием средств го
 сударственного бюджета Российской Феде
 рации.Срок – 1 июня 2020 г. Ответственные: М
 едведев Д.А.\, Чупшева С.В.\, Кудрин A.Л.\, Ча
 йка Ю.Я.
END:VEVENT
END:VCALENDAR
