BEGIN:VCALENDAR
VERSION:2.0
PRODID:-//kremlin.ru/Kremlin Calendar//RU
METHOD:PUBLISH
URL:http://kremlin.ru/acts/assignments/items/61922/ical-14.ics
BEGIN:VEVENT
SUMMARY:Пр-2199\, п.8а
DTSTART;VALUE=DATE:20200301
DTEND;VALUE=DATE:20200302
UID:assignment-5397_14@kremlin.ru
DESCRIPTION:8. Минпромторгу России совместно с
  АО «Российский экспортный центр»:а) пре
 дусмотреть меры по созданию российских 
 лабораторий\, обеспечивающих международ
 ную сертификацию высокотехнологичной п
 родукции отечественных компаний с целью
  обеспечения её экспорта\;
END:VEVENT
END:VCALENDAR
