BEGIN:VCALENDAR
VERSION:2.0
PRODID:-//kremlin.ru/Kremlin Calendar//RU
METHOD:PUBLISH
URL:http://kremlin.ru/acts/assignments/items/61524/ical-10.ics
BEGIN:VEVENT
SUMMARY:Пр-1818\, п.2 ж)
DTSTART;VALUE=DATE:20200101
DTEND;VALUE=DATE:20200102
UID:assignment-5252_10@kremlin.ru
DESCRIPTION:ж) внести изменения в федеральные 
 и региональные программные документы по
  строительству\, модернизации и реконстр
 укции очистных сооружений по результата
 м исполнения подпункта «е» настоящего п
 ункта.Срок – 1 января 2020 г.Ответственные:
  Медведев Д.А.\, Цыденов А.С.\, Осипов А.М.\, 
 Левченко С.Г.
END:VEVENT
END:VCALENDAR
