BEGIN:VCALENDAR
VERSION:2.0
PRODID:-//kremlin.ru/Kremlin Calendar//RU
METHOD:PUBLISH
URL:http://kremlin.ru/acts/assignments/items/61523/ical-9.ics
BEGIN:VEVENT
SUMMARY:Пр-1815\, п.2
DTSTART;VALUE=DATE:20191015
DTEND;VALUE=DATE:20191016
UID:assignment-5270_9@kremlin.ru
DESCRIPTION:2. Правительству Российской Федер
 ации предусмотреть при формировании про
 екта федерального бюджета на 2020 год и на 
 плановый период 2021 и 2022 годов дополнител
 ьные бюджетные ассигнования на реализац
 ию мероприятий по восстановлению жилья\,
  объектов связи\, социальной\, коммунальн
 ой\, энергетической и транспортной инфра
 структур\, гидротехнических сооружений\,
  административных зданий\, повреждённых 
 или утраченных в результате наводнения 
 на территории Иркутской области.Срок – 1
 5 октября 2019 г.Ответственный: Медведев Д.
 А.
END:VEVENT
END:VCALENDAR
