BEGIN:VCALENDAR
VERSION:2.0
PRODID:-//kremlin.ru/Kremlin Calendar//RU
METHOD:PUBLISH
URL:http://kremlin.ru/acts/assignments/items/61523/ical-3.ics
BEGIN:VEVENT
SUMMARY:Пр-1815\, п.1 г)
DTSTART;VALUE=DATE:20191101
DTEND;VALUE=DATE:20191102
UID:assignment-5265_3@kremlin.ru
DESCRIPTION:г) обеспечить информирование граж
 дан о планах по размещению новых защитны
 х сооружений (дамб)\;
END:VEVENT
END:VCALENDAR
