BEGIN:VCALENDAR
VERSION:2.0
PRODID:-//kremlin.ru/Kremlin Calendar//RU
METHOD:PUBLISH
URL:http://kremlin.ru/acts/assignments/items/61523/ical-2.ics
BEGIN:VEVENT
SUMMARY:Пр-1815\, п.1 в)
DTSTART;VALUE=DATE:20190925
DTEND;VALUE=DATE:20190926
UID:assignment-5264_2@kremlin.ru
DESCRIPTION:в) обеспечить завершение работы п
 о персонифицированному учёту граждан\, ж
 илые помещения которых по результатам о
 бследования признаны нуждающимися в про
 ведении капитального ремонта\, организа
 ции такого капитального ремонта в том чи
 сле гражданами самостоятельно с последу
 ющим предоставлением ими подтверждающи
 х документов.Доклад – до 25 сентября 2019 г.
 \, далее – раз в две недели\;
END:VEVENT
END:VCALENDAR
