BEGIN:VCALENDAR
VERSION:2.0
PRODID:-//kremlin.ru/Kremlin Calendar//RU
METHOD:PUBLISH
URL:http://kremlin.ru/acts/assignments/items/61523/ical-15.ics
BEGIN:VEVENT
SUMMARY:Пр-1815\, п.5 б)
DTSTART;VALUE=DATE:20191101
DTEND;VALUE=DATE:20191102
UID:assignment-5277_15@kremlin.ru
DESCRIPTION:б) с учётом ранее данных поручений
  обеспечить оборудование контейнерных п
 лощадок и вывоз твёрдых коммунальных от
 ходов из с.Куда Иркутской области.Доклад
  – до 1 ноября 2019 г.\;
END:VEVENT
END:VCALENDAR
