BEGIN:VCALENDAR
VERSION:2.0
PRODID:-//kremlin.ru/Kremlin Calendar//RU
METHOD:PUBLISH
URL:http://kremlin.ru/acts/assignments/items/61434/ical-28.ics
BEGIN:VEVENT
SUMMARY:Пр-1755\, п.1 и)
DTSTART;VALUE=DATE:20191001
DTEND;VALUE=DATE:20191002
UID:assignment-5232_28@kremlin.ru
DESCRIPTION:и) рассмотреть вопрос о создании м
 еханизма финансирования капитального р
 емонта зданий медицинских организаций и
  оснащения этих организаций медицинским
  оборудованием.Доклад – до 1 октября 2019 г
 .Ответственный: Медведев Д.А.
END:VEVENT
END:VCALENDAR
