BEGIN:VCALENDAR
VERSION:2.0
PRODID:-//kremlin.ru/Kremlin Calendar//RU
METHOD:PUBLISH
URL:http://kremlin.ru/acts/assignments/items/61434/ical-2.ics
BEGIN:VEVENT
SUMMARY:Пр-1755\, п.1 б)-2
DTSTART;VALUE=DATE:20191130
DTEND;VALUE=DATE:20191201
UID:assignment-5206_2@kremlin.ru
DESCRIPTION:степени износа медицинского обор
 удования\, транспортных средств и зданий
  медицинских организаций.Срок – 30 ноябр
 я 2019 г.\;
END:VEVENT
END:VCALENDAR
