BEGIN:VCALENDAR
VERSION:2.0
PRODID:-//kremlin.ru/Kremlin Calendar//RU
METHOD:PUBLISH
URL:http://kremlin.ru/acts/assignments/items/61319/ical-9.ics
BEGIN:VEVENT
SUMMARY:Пр-1620\, п.3 б)
DTSTART;VALUE=DATE:20191201
DTEND;VALUE=DATE:20191202
UID:assignment-5182_9@kremlin.ru
DESCRIPTION:б) об отчуждении из государственн
 ой собственности земельного участка ори
 ентировочной площадью 198 гектаров\, на ко
 тором отсутствуют объекты капитального 
 строительства и который образован при в
 ыделе из земельного участка с кадастров
 ым номером 78:36:0013401:33\, с последующим напр
 авлением денежных средств\, полученных в
  результате отчуждения\, на реконструкци
 ю объектов\, расположенных на территории
  аэродрома совместного базирования Лева
 шово\, не являющихся объектами концессио
 нного соглашения и используемых Минобор
 оны России\;
END:VEVENT
END:VCALENDAR
