BEGIN:VCALENDAR
VERSION:2.0
PRODID:-//kremlin.ru/Kremlin Calendar//RU
METHOD:PUBLISH
URL:http://kremlin.ru/acts/assignments/items/61319/ical-8.ics
BEGIN:VEVENT
SUMMARY:Пр-1620\, п.3 а)
DTSTART;VALUE=DATE:20191201
DTEND;VALUE=DATE:20191202
UID:assignment-5181_8@kremlin.ru
DESCRIPTION:3. Рассмотреть вопросы:а) о наделен
 ии Минобороны России полномочиями по ра
 споряжению земельными участками\, на кот
 орых размещается аэродром совместного б
 азирования Левашово\;
END:VEVENT
END:VCALENDAR
