BEGIN:VCALENDAR
VERSION:2.0
PRODID:-//kremlin.ru/Kremlin Calendar//RU
METHOD:PUBLISH
URL:http://kremlin.ru/acts/assignments/items/61319/ical-1.ics
BEGIN:VEVENT
SUMMARY:Пр-1620\, п.1 б)
DTSTART;VALUE=DATE:20191201
DTEND;VALUE=DATE:20191202
UID:assignment-5174_1@kremlin.ru
DESCRIPTION:б) концедентом является Российска
 я Федерация\, от имени которой выступает 
 Минобороны России\;
END:VEVENT
END:VCALENDAR
