BEGIN:VCALENDAR
VERSION:2.0
PRODID:-//kremlin.ru/Kremlin Calendar//RU
METHOD:PUBLISH
URL:http://kremlin.ru/acts/assignments/items/61081/ical-21.ics
BEGIN:VEVENT
SUMMARY:Пр-1418\, п.8 а)
DTSTART;VALUE=DATE:20190901
DTEND;VALUE=DATE:20190902
UID:assignment-5139_21@kremlin.ru
DESCRIPTION:8. Генеральной прокуратуре Россий
 ской Федерации:а) провести проверку собл
 юдения законодательства Российской Фед
 ерации при строительстве многоквартирн
 ого дома\, расположенного по адресу: Ирку
 тская обл.\, г.Тайшет\, ул. Транспортная\, д
 . 105\;
END:VEVENT
END:VCALENDAR
