BEGIN:VCALENDAR
VERSION:2.0
PRODID:-//kremlin.ru/Kremlin Calendar//RU
METHOD:PUBLISH
URL:http://kremlin.ru/acts/assignments/items/60879/ical-12.ics
BEGIN:VEVENT
SUMMARY:Пр-1180\, п.1 з)
DTSTART;VALUE=DATE:20191001
DTEND;VALUE=DATE:20191002
UID:assignment-5031_12@kremlin.ru
DESCRIPTION:з) обеспечить внесение в законода
 тельство Российской Федерации изменени
 й\, предусматривающих присвоение статус
 а ветерана боевых действий гражданам Ро
 ссийской Федерации\, которые в августе –
  сентябре 1999 г. в составе отрядов самообо
 роны принимали участие в боевых действи
 ях в ходе контртеррористических операци
 й на территории Республики Дагестан.Сро
 к – 1 октября 2019 г.Ответственный: Медведе
 в Д.А.
END:VEVENT
END:VCALENDAR
