BEGIN:VCALENDAR
VERSION:2.0
PRODID:-//kremlin.ru/Kremlin Calendar//RU
METHOD:PUBLISH
URL:http://kremlin.ru/acts/assignments/items/60879/ical-11.ics
BEGIN:VEVENT
SUMMARY:Пр-1180\, п.1 ж)
DTSTART;VALUE=DATE:20191001
DTEND;VALUE=DATE:20191002
UID:assignment-5030_11@kremlin.ru
DESCRIPTION:ж) совместно с Генеральной прокур
 атурой Российской Федерации принять мер
 ы\, направленные на устранение нарушений
  законодательства Российской Федерации 
 в сфере выплаты заработной платы\, в том 
 числе отдельным категориям работников б
 юджетной сферы экономики.Доклад – до 1 о
 ктября 2019 г.\, далее – один раз в полгода.
 Ответственные: Медведев Д.А.\, Чайка Ю.Я.\;
END:VEVENT
END:VCALENDAR
