BEGIN:VCALENDAR
VERSION:2.0
PRODID:-//kremlin.ru/Kremlin Calendar//RU
METHOD:PUBLISH
URL:http://kremlin.ru/acts/assignments/items/60198/ical-32.ics
BEGIN:VEVENT
SUMMARY:Пр-555ГС\, п.1л-3
DTSTART;VALUE=DATE:20190701
DTEND;VALUE=DATE:20190702
UID:assignment-4825_32@kremlin.ru
DESCRIPTION:об увеличении софинансирования з
 а счёт средств федерального бюджета мер
 оприятий\, связанных со строительством о
 бъектов коммунальной\, социальной\, тран
 спортной и инженерной инфраструктуры\, н
 еобходимой для увеличения объёмов ввода
  жилья\;
END:VEVENT
END:VCALENDAR
