BEGIN:VCALENDAR
VERSION:2.0
PRODID:-//kremlin.ru/Kremlin Calendar//RU
METHOD:PUBLISH
URL:http://kremlin.ru/acts/assignments/items/59887/ical-9.ics
BEGIN:VEVENT
SUMMARY:Пр-277\, п.1е
DTSTART;VALUE=DATE:20190331
DTEND;VALUE=DATE:20190401
UID:assignment-4702_9@kremlin.ru
DESCRIPTION:е) обеспечить при реализации наци
 ональной программы «Цифровая экономика 
 Российской Федерации» поддержку разраб
 отчиков конкурентоспособных отечествен
 ных решений для систем связи нового поко
 ления.Доклад – до 31 марта 2019 г.\, далее – 
 один раз в полгода\;
END:VEVENT
END:VCALENDAR
