BEGIN:VCALENDAR
VERSION:2.0
PRODID:-//kremlin.ru/Kremlin Calendar//RU
METHOD:PUBLISH
URL:http://kremlin.ru/acts/assignments/items/59887/ical-8.ics
BEGIN:VEVENT
SUMMARY:Пр-277\, п.1д
DTSTART;VALUE=DATE:20190331
DTEND;VALUE=DATE:20190401
UID:assignment-4701_8@kremlin.ru
DESCRIPTION:д) разработать с участием российс
 ких деловых объединений и обеспечить ре
 ализацию комплекса мер\, направленных на
  экономическое стимулирование приобрет
 ения российского телекоммуникационного
  оборудования\, а также определить механ
 изм предоставления связанных кредитов п
 отребителям такого оборудования\;
END:VEVENT
END:VCALENDAR
