BEGIN:VCALENDAR
VERSION:2.0
PRODID:-//kremlin.ru/Kremlin Calendar//RU
METHOD:PUBLISH
URL:http://kremlin.ru/acts/assignments/items/59887/ical-7.ics
BEGIN:VEVENT
SUMMARY:Пр-277\, п.1г
DTSTART;VALUE=DATE:20190430
DTEND;VALUE=DATE:20190501
UID:assignment-4700_7@kremlin.ru
DESCRIPTION:г) принять исчерпывающие меры по о
 беспечению эффективной защиты российск
 их производителей гербицидов от демпинг
 а.Доклад – до 30 апреля 2019 г.\;
END:VEVENT
END:VCALENDAR
