BEGIN:VCALENDAR
VERSION:2.0
PRODID:-//kremlin.ru/Kremlin Calendar//RU
METHOD:PUBLISH
URL:http://kremlin.ru/acts/assignments/items/59887/ical-6.ics
BEGIN:VEVENT
SUMMARY:Пр-277\, п.1в
DTSTART;VALUE=DATE:20190430
DTEND;VALUE=DATE:20190501
UID:assignment-4699_6@kremlin.ru
DESCRIPTION:в) выработать позицию Российской 
 Федерации по вопросу изменения механизм
 а принятия в Евразийском экономическом 
 союзе коллективных решений о применении
  защитных мер исходя из необходимости об
 еспечения защиты российских производит
 елей от демпинга\;
END:VEVENT
END:VCALENDAR
