BEGIN:VCALENDAR
VERSION:2.0
PRODID:-//kremlin.ru/Kremlin Calendar//RU
METHOD:PUBLISH
URL:http://kremlin.ru/acts/assignments/items/59887/ical-5.ics
BEGIN:VEVENT
SUMMARY:Пр-277\, п.1б
DTSTART;VALUE=DATE:20190531
DTEND;VALUE=DATE:20190601
UID:assignment-4698_5@kremlin.ru
DESCRIPTION:б) представить предложения о сове
 ршенствовании правил обращения с ломом 
 и отходами чёрных и цветных металлов\, ме
 ханизмов вовлечения указанных лома и от
 ходов в повторный хозяйственный оборот\,
  а также о введении процедуры их отчужде
 ния путём продажи на публичных торгах\, в
  том числе с использованием цифровых пла
 тформ.Срок – 31 мая 2019 г.\;
END:VEVENT
END:VCALENDAR
