BEGIN:VCALENDAR
VERSION:2.0
PRODID:-//kremlin.ru/Kremlin Calendar//RU
METHOD:PUBLISH
URL:http://kremlin.ru/acts/assignments/items/59887/ical-16.ics
BEGIN:VEVENT
SUMMARY:Пр-277\, п.4а
DTSTART;VALUE=DATE:20190430
DTEND;VALUE=DATE:20190501
UID:assignment-4709_16@kremlin.ru
DESCRIPTION:4. Банку России подготовить совмес
 тно с Правительством Российской Федерац
 ии и представить предложения:а) о возмож
 ности снижения размера отдельных видов 
 комиссий за перевод денежных средств\, у
 плачиваемых участниками платёжной сист
 емы при осуществлении безналичных расчё
 тов\, в том числе с использованием банков
 ских карт\;
END:VEVENT
END:VCALENDAR
