BEGIN:VCALENDAR
VERSION:2.0
PRODID:-//kremlin.ru/Kremlin Calendar//RU
METHOD:PUBLISH
URL:http://kremlin.ru/acts/assignments/items/59880/ical-3.ics
BEGIN:VEVENT
SUMMARY:Пр-235\, п.3
DTSTART;VALUE=DATE:20191101
DTEND;VALUE=DATE:20191102
UID:assignment-4672_3@kremlin.ru
DESCRIPTION:3. Генеральной прокуратуре Россий
 ской Федерации продолжить проверки испо
 лнения законодательства в сфере добычи\,
  охраны и использования морских млекопи
 тающих\, в том числе в отношении животных
  в бухте Средняя Приморского края.Срок –
  до 1 ноября 2019 г.Ответственный: Чайка Ю.Я.
END:VEVENT
END:VCALENDAR
