BEGIN:VCALENDAR
VERSION:2.0
PRODID:-//kremlin.ru/Kremlin Calendar//RU
METHOD:PUBLISH
URL:http://kremlin.ru/acts/assignments/items/59758/ical-5.ics
BEGIN:VEVENT
SUMMARY:Пр-118\, п.4-1
DTSTART;VALUE=DATE:20190302
DTEND;VALUE=DATE:20190303
UID:assignment-4573_5@kremlin.ru
DESCRIPTION:по установлению критериев эколог
 ического туризма и объектов рекреационн
 ого назначения\, строительство которых д
 опускается на таких территориях.Срок – 1
  марта 2019 г. Ответственные: Медведев Д.А.\,
  высшие должностные лица (руководители в
 ысших исполнительных органов государст
 венной власти) субъектов Российской Фед
 ерации.
END:VEVENT
END:VCALENDAR
