BEGIN:VCALENDAR
VERSION:2.0
PRODID:-//kremlin.ru/Kremlin Calendar//RU
METHOD:PUBLISH
URL:http://kremlin.ru/acts/assignments/items/59758/ical-4.ics
BEGIN:VEVENT
SUMMARY:Пр-118\, п.4
DTSTART;VALUE=DATE:20190301
DTEND;VALUE=DATE:20190302
UID:assignment-4572_4@kremlin.ru
DESCRIPTION:4. Правительству Российской Федер
 ации с участием органов исполнительной 
 власти субъектов Российской Федерации у
 твердить план мероприятий\, направленны
 й на стимулирование участия бизнеса в ра
 звитии экологического туризма на особо 
 охраняемых природных территориях\, пред
 усмотрев в нем\, в том числе\, мероприятия
 :по ускоренному внесению сведений о гран
 ицах особо охраняемых природных террито
 рий в Единый государственный реестр объ
 ектов недвижимости\;
END:VEVENT
END:VCALENDAR
