BEGIN:VCALENDAR
VERSION:2.0
PRODID:-//kremlin.ru/Kremlin Calendar//RU
METHOD:PUBLISH
URL:http://kremlin.ru/acts/assignments/items/59634/ical-2.ics
BEGIN:VEVENT
SUMMARY:Пр-2556\, п.3
DTSTART;VALUE=DATE:20190315
DTEND;VALUE=DATE:20190316
UID:assignment-4448_2@kremlin.ru
DESCRIPTION:3. Генеральной прокуратуре Россий
 ской Федерации провести проверку соблюд
 ения требований законодательства Росси
 йской Федерации в части\, касающейся обе
 спечения охраны и защиты лесов при осуще
 ствлении строительства коттеджей в микр
 орайоне Снеговая Падь г. Владивостока.До
 клад – до 15 марта 2019 г.Ответственный: Чай
 ка Ю.Я.
END:VEVENT
END:VCALENDAR
