BEGIN:VCALENDAR
VERSION:2.0
PRODID:-//kremlin.ru/Kremlin Calendar//RU
METHOD:PUBLISH
URL:http://kremlin.ru/acts/assignments/items/59448/ical-5.ics
BEGIN:VEVENT
SUMMARY:Пр-2423\, п.2 б)
DTSTART;VALUE=DATE:20190601
DTEND;VALUE=DATE:20190602
UID:assignment-4365_5@kremlin.ru
DESCRIPTION:б) с учётом результатов выполнени
 я подпункта «а» пункта 2 настоящего пере
 чня поручений обеспечить формирование о
 рганизациями оборонно-промышленного ко
 мплекса продуктовых рядов (номенклатуры
  производства) продукции гражданского н
 азначения\, а также проектов (программ) и
 х производства в 2019 –2021 годах с разбивко
 й по рынкам сбыта и потребителям.Срок – 1
  июня 2019 г.Ответственные: Борисов Ю.И.\, Ли
 хачёв А.Е.\, Рогозин Д.О.\, Чемезов С.В.\;
END:VEVENT
END:VCALENDAR
