BEGIN:VCALENDAR
VERSION:2.0
PRODID:-//kremlin.ru/Kremlin Calendar//RU
METHOD:PUBLISH
URL:http://kremlin.ru/acts/assignments/items/59448/ical-3.ics
BEGIN:VEVENT
SUMMARY:Пр-2423\, п.1 г)
DTSTART;VALUE=DATE:20181231
DTEND;VALUE=DATE:20190101
UID:assignment-4363_3@kremlin.ru
DESCRIPTION:г) ускорить принятие решения по во
 просу использования операторами связи в
  соответствии с Федеральным законом от 6 
 июля 2016 г. № 374‑ФЭ технических средств н
 акопления информации\, разработанных ор
 ганизациями оборонно-промышленного ком
 плекса.Срок – 31 декабря 2018 г.Ответственн
 ый: Медведев Д.А.\;
END:VEVENT
END:VCALENDAR
