BEGIN:VCALENDAR
VERSION:2.0
PRODID:-//kremlin.ru/Kremlin Calendar//RU
METHOD:PUBLISH
URL:http://kremlin.ru/acts/assignments/items/59448/ical-0.ics
BEGIN:VEVENT
SUMMARY:Пр-2423\, п.1 а)
DTSTART;VALUE=DATE:20190301
DTEND;VALUE=DATE:20190302
UID:assignment-4360_0@kremlin.ru
DESCRIPTION:1. Правительству Российской Федер
 ации:а) с учётом ранее данных поручений о
 беспечить внесение в законодательство Р
 оссийской Федерации изменений\, предусм
 атривающих совершенствование регулиров
 ания заключения и реализации специальны
 х инвестиционных контрактов в целях про
 изводства продукции гражданского назна
 чения организациями оборонно-промышлен
 ного комплекса.Срок – 1 марта 2019 г.\;
END:VEVENT
END:VCALENDAR
