BEGIN:VCALENDAR
VERSION:2.0
PRODID:-//kremlin.ru/Kremlin Calendar//RU
METHOD:PUBLISH
URL:http://kremlin.ru/acts/assignments/items/57482/ical-26.ics
BEGIN:VEVENT
SUMMARY:Пр-817ГС\, п.2г
DTSTART;VALUE=DATE:20181001
DTEND;VALUE=DATE:20181002
UID:assignment-4563_26@kremlin.ru
DESCRIPTION:г) обеспечить опубликование и акт
 уализацию на официальных сайтах субъект
 ов Российской Федерации и муниципальных
  образований в информационно-телекоммун
 икационной сети Интернет информации об 
 объектах\, находящихся в государственно
 й собственности субъектов Российской Фе
 дерации\, в муниципальной собственности\
 , включая сведения о наименованиях объек
 тов\, их местонахождении\, характеристик
 ах и целевом назначении объектов\, сущес
 твующих ограничениях их использования и
  обременениях правами третьих лиц.Докла
 д – до 1 октября 2018 г.Ответственные: высш
 ие должностные лица (руководители высши
 х исполнительных органов государственн
 ой власти) субъектов Российской Федерац
 ии.
END:VEVENT
END:VCALENDAR
