BEGIN:VCALENDAR
VERSION:2.0
PRODID:-//kremlin.ru/Kremlin Calendar//RU
METHOD:PUBLISH
URL:http://kremlin.ru/acts/assignments/items/57482/ical-25.ics
BEGIN:VEVENT
SUMMARY:Пр-817ГС\, п.2в
DTSTART;VALUE=DATE:20190101
DTEND;VALUE=DATE:20190102
UID:assignment-4562_25@kremlin.ru
DESCRIPTION:в) разработать и внедрить систему 
 мотивации органов местного самоуправле
 ния к эффективной работе по содействию р
 азвитию конкуренции.Срок – 1 января 2019 г.
 \;
END:VEVENT
END:VCALENDAR
