BEGIN:VCALENDAR
VERSION:2.0
PRODID:-//kremlin.ru/Kremlin Calendar//RU
METHOD:PUBLISH
URL:http://kremlin.ru/acts/assignments/items/57482/ical-24.ics
BEGIN:VEVENT
SUMMARY:Пр-817ГС\, п.2б
DTSTART;VALUE=DATE:20190401
DTEND;VALUE=DATE:20190402
UID:assignment-4561_24@kremlin.ru
DESCRIPTION:б) актуализировать региональные и
  муниципальные планы («дорожные карты») 
 по содействию развитию конкуренции и об
 еспечить их выполнение с учётом изменен
 ий\, внесённых в стандарт развития конку
 ренции в субъектах Российской Федерации
 \, и необходимости достижения к 1 января 20
 22 г. ключевых показателей развития конку
 ренции\, разработанных в соответствии с 
 подпунктом «а» пункта 2 настоящего переч
 ня поручений.Доклад – до 1 апреля 2019 г.\, д
 алее – ежегодно\;
END:VEVENT
END:VCALENDAR
