BEGIN:VCALENDAR
VERSION:2.0
PRODID:-//kremlin.ru/Kremlin Calendar//RU
METHOD:PUBLISH
URL:http://kremlin.ru/acts/assignments/items/57224/ical-6.ics
BEGIN:VEVENT
SUMMARY:Пр-580\, п.5
DTSTART;VALUE=DATE:20180801
DTEND;VALUE=DATE:20180802
UID:assignment-4120_6@kremlin.ru
DESCRIPTION:5. Рекомендовать Правительству Св
 ердловской области рассмотреть вопрос о
  строительстве в г. Нижний Тагил закрыто
 го легкоатлетического манежа.Доклад – д
 о 1 августа 2018 г. Ответственный: Куйвашев 
 Е.В.
END:VEVENT
END:VCALENDAR
