BEGIN:VCALENDAR
VERSION:2.0
PRODID:-//kremlin.ru/Kremlin Calendar//RU
METHOD:PUBLISH
URL:http://kremlin.ru/acts/assignments/items/55999/ical-7.ics
BEGIN:VEVENT
SUMMARY:Пр-2225\, п.3
DTSTART;VALUE=DATE:20171120
DTEND;VALUE=DATE:20171121
UID:assignment-3875_7@kremlin.ru
DESCRIPTION:3. Рекомендовать руководителям вы
 сших исполнительных органов государств
 енной власти субъектов Российской Федер
 ации:провести встречу и\, в соответствии 
 с установленным в субъекте Российской Ф
 едерации порядком\, поощрить победителе
 й\, призёров и иных членов национальной с
 борной Российской Федерации по професси
 ональному мастерству и стандартам «Ворл
 дскиллс»\, а также экспертов и тренеров\, 
 участвовавших в подготовке членов коман
 ды к чемпионату мира\;поощрить организац
 ии профессионального образования\, подг
 отовившие победителей и призёров чемпио
 ната мира.Срок – 20 ноября 2017 г.Ответстве
 нные: высшие должностные лица (руководит
 ели высших исполнительных органов госуд
 арственной власти) субъектов Российской
  Федерации.
END:VEVENT
END:VCALENDAR
