BEGIN:VCALENDAR
VERSION:2.0
PRODID:-//kremlin.ru/Kremlin Calendar//RU
METHOD:PUBLISH
URL:http://kremlin.ru/acts/assignments/items/55570/ical-6.ics
BEGIN:VEVENT
SUMMARY:Пр-1772\, п.3
DTSTART;VALUE=DATE:20171215
DTEND;VALUE=DATE:20171216
UID:assignment-3701_6@kremlin.ru
DESCRIPTION:3. Минобороны России\, ФСБ России\, 
 ФСО России\, Росгвардии обеспечить освоб
 ождение и предоставление г. Севастополю 
 земельных участков\, необходимых для гра
 жданского развития района Балаклавской 
 бухты.Срок – 15 декабря 2017 г.Ответственны
 е: Шойгу С.К.\, Бортников А.В.\, Кочнев Д.В.\, 
 Золотов В.В.
END:VEVENT
END:VCALENDAR
