BEGIN:VCALENDAR
VERSION:2.0
PRODID:-//kremlin.ru/Kremlin Calendar//RU
METHOD:PUBLISH
URL:http://kremlin.ru/acts/assignments/items/55570/ical-10.ics
BEGIN:VEVENT
SUMMARY:Пр-1772\, п.5
DTSTART;VALUE=DATE:20180131
DTEND;VALUE=DATE:20180201
UID:assignment-3705_10@kremlin.ru
DESCRIPTION:5. Минобороны России обеспечить ос
 вобождение и предоставление г. Севастоп
 олю земельных участков\, необходимых для
  создания историко-археологического пар
 ка «Херсонес Таврический».Срок – 31 янва
 ря 2018 г. Ответственный: Шойгу С.К.
END:VEVENT
END:VCALENDAR
