BEGIN:VCALENDAR
VERSION:2.0
PRODID:-//kremlin.ru/Kremlin Calendar//RU
METHOD:PUBLISH
URL:http://kremlin.ru/acts/assignments/items/53775/ical-25.ics
BEGIN:VEVENT
SUMMARY:Пр-140ГС\, п.1г-3
DTSTART;VALUE=DATE:20170601
DTEND;VALUE=DATE:20170602
UID:assignment-4865_25@kremlin.ru
DESCRIPTION:гармонизацию законодательства в 
 области обращения с отходами и законода
 тельства\, регулирующего перевозки груз
 ов\, в части\, касающейся транспортирован
 ия отходов.Срок – 1 июня 2017 г.\;
END:VEVENT
END:VCALENDAR
