BEGIN:VCALENDAR
VERSION:2.0
PRODID:-//kremlin.ru/Kremlin Calendar//RU
METHOD:PUBLISH
URL:http://kremlin.ru/acts/assignments/items/53712/ical-0.ics
BEGIN:VEVENT
SUMMARY:Пр-21\, п.1
DTSTART;VALUE=DATE:20170601
DTEND;VALUE=DATE:20170602
UID:assignment-3333_0@kremlin.ru
DESCRIPTION:1. Губернатору Свердловской облас
 ти принять меры по приведению автомобил
 ьной дороги г. Нижний Тагил – с. Серебрян
 ка в эксплуатационное состояние\, обеспе
 чивающее безопасное\, бесперебойное дви
 жение.Доклад – до 1 июня 2017 г.Ответственн
 ый: Куйвашев Е.В.
END:VEVENT
END:VCALENDAR
