BEGIN:VCALENDAR
VERSION:2.0
PRODID:-//kremlin.ru/Kremlin Calendar//RU
METHOD:PUBLISH
URL:http://kremlin.ru/acts/assignments/items/53697/ical-4.ics
BEGIN:VEVENT
SUMMARY:Пр-16\, п.4
DTSTART;VALUE=DATE:20170901
DTEND;VALUE=DATE:20170902
UID:assignment-3317_4@kremlin.ru
DESCRIPTION:4. Правительству Российской Федер
 ации совместно с органами государственн
 ой власти Краснодарского края\, Общеросс
 ийским общественным движением «Народны
 й фронт «За Россию»\, Советом при Президе
 нте Российской Федерации по развитию гр
 ажданского общества и правам человека и 
 при участии общественных экологических 
 организаций представить предложения по 
 минимизации экологического ущерба при о
 существлении работ по расширению зон от
 дыха в районе Красной Поляны.Срок – 1 сен
 тября 2017 г.Ответственные: Медведев Д.А.\, 
 Кондратьев В.И.\, Тимофеева О.В.\, Федотов 
 М.А.
END:VEVENT
END:VCALENDAR
