BEGIN:VCALENDAR
VERSION:2.0
PRODID:-//kremlin.ru/Kremlin Calendar//RU
METHOD:PUBLISH
URL:http://kremlin.ru/acts/assignments/items/53496/ical-11.ics
BEGIN:VEVENT
SUMMARY:Пр-2418\, п.5
DTSTART;VALUE=DATE:20170331
DTEND;VALUE=DATE:20170401
UID:assignment-3253_11@kremlin.ru
DESCRIPTION:5. Минобороны России рассмотреть в
 озможность передачи органам исполнител
 ьной власти Республики Крым и г. Севасто
 поля находящейся в федеральной собствен
 ности военной техники (в том числе военн
 ых кораблей)\, предназначенной для утили
 зации\, в целях организации военных музе
 ев на территориях Республики Крым и г. Се
 вастополя и обеспечить передачу такой т
 ехники.Срок – 31 марта 2017 г.Ответственные
 : Шойгу С.К.\, Аксёнов С.В.\, Овсянников Д.В.
END:VEVENT
END:VCALENDAR
