BEGIN:VCALENDAR
VERSION:2.0
PRODID:-//kremlin.ru/Kremlin Calendar//RU
METHOD:PUBLISH
URL:http://kremlin.ru/acts/assignments/items/51753/ical-3.ics
BEGIN:VEVENT
SUMMARY:Пр-686\, п.3 б)
DTSTART;VALUE=DATE:20160901
DTEND;VALUE=DATE:20160902
UID:assignment-2901_3@kremlin.ru
DESCRIPTION:б) совместно с Министерством куль
 туры Российской Федерации\, Министерств
 ом внутренних дел Российской Федерации 
 с участием Комиссии по выявлению и сохра
 нению объектов военно-­технической исто
 рии и фортификации представить предложе
 ния по сохранению и передаче в музеи уни
 кальных предметов военного времени\, нах
 одящихся на местах боев или на хранении 
 в Вооружённых Силах Российской Федераци
 и.Срок – 1 сентября 2016 годаОтветственные
 : Шойгу С.К.\, Мединский В.Р.\, Колокольцев 
 В.А.
END:VEVENT
END:VCALENDAR
