BEGIN:VCALENDAR
VERSION:2.0
PRODID:-//kremlin.ru/Kremlin Calendar//RU
METHOD:PUBLISH
URL:http://kremlin.ru/acts/assignments/items/51753/ical-2.ics
BEGIN:VEVENT
SUMMARY:Пр-686\, п.3 а)
DTSTART;VALUE=DATE:20170131
DTEND;VALUE=DATE:20170201
UID:assignment-2900_2@kremlin.ru
DESCRIPTION:3. Министерству обороны Российско
 й Федерации:а) продолжить работу по форм
 ированию интернет-сервиса «Память народ
 а» в целях наиболее полного представлен
 ия архивных данных о судьбах защитников 
 Отечества.Доклад – до 31 января 2017 года О
 тветственный: Шойгу С.К.\;
END:VEVENT
END:VCALENDAR
