BEGIN:VCALENDAR
VERSION:2.0
PRODID:-//kremlin.ru/Kremlin Calendar//RU
METHOD:PUBLISH
URL:http://kremlin.ru/acts/assignments/items/51414/ical-3.ics
BEGIN:VEVENT
SUMMARY:Пр-370\, п.4
DTSTART;VALUE=DATE:20160501
DTEND;VALUE=DATE:20160502
UID:assignment-2841_3@kremlin.ru
DESCRIPTION:4. Министерству обороны Российско
 й Федерации рассмотреть вопрос о создан
 ии факультета военного обучения (военно
 й кафедры) при федеральном государствен
 ном автономном образовательном учрежде
 нии высшего профессионального образова
 ния «Северо-Кавказский федеральный унив
 ерситет» с учётом потребностей Вооружён
 ных Сил Российской Федерации.Доклад – д
 о 1 мая 2016 года. Ответственный: Шойгу С.К.
END:VEVENT
END:VCALENDAR
