BEGIN:VCALENDAR
VERSION:2.0
PRODID:-//kremlin.ru/Kremlin Calendar//RU
METHOD:PUBLISH
URL:http://kremlin.ru/acts/assignments/items/50899/ical-32.ics
BEGIN:VEVENT
SUMMARY:Пр-2508\, п.1\, 23)
DTSTART;VALUE=DATE:20160301
DTEND;VALUE=DATE:20160302
UID:assignment-2690_32@kremlin.ru
DESCRIPTION:23) совместно с Российской академи
 ей наук и при участии Федерального агент
 ства научных организаций обеспечить раз
 работку на базе ведущих исследовательск
 их институтов Российской академии наук 
 программы научного обеспечения деятель
 ности по созданию отечественных посевно
 го и племенного фондов\, средств защиты р
 астений и животных в целях производства 
 российскими производителями конкуренто
 способной сельскохозяйственной продукц
 ии\, а также по созданию технологий произ
 водства (выращивания)\, хранения и перера
 ботки такой продукции.Срок – 1 марта 2016 г
 .Ответственные: Медведев Д.А.\, Фортов В.Е.
 \, Котюков М.М.
END:VEVENT
END:VCALENDAR
